BEGIN:VCALENDAR
VERSION:2.0
PRODID:-//Steele-N-Jo&#039;s Bone - ECPv6.15.20//NONSGML v1.0//EN
CALSCALE:GREGORIAN
METHOD:PUBLISH
X-WR-CALNAME:Steele-N-Jo&#039;s Bone
X-ORIGINAL-URL:https://steelenjosbone.com
X-WR-CALDESC:Events for Steele-N-Jo&#039;s Bone
REFRESH-INTERVAL;VALUE=DURATION:PT1H
X-Robots-Tag:noindex
X-PUBLISHED-TTL:PT1H
BEGIN:VTIMEZONE
TZID:UTC
BEGIN:STANDARD
TZOFFSETFROM:+0000
TZOFFSETTO:+0000
TZNAME:UTC
DTSTART:20220101T000000
END:STANDARD
END:VTIMEZONE
BEGIN:VEVENT
DTSTART;VALUE=DATE:20231110
DTEND;VALUE=DATE:20231113
DTSTAMP:20260421T022259
CREATED:20231028T001014Z
LAST-MODIFIED:20231028T001014Z
UID:1554-1699574400-1699833599@steelenjosbone.com
SUMMARY:Cheers to Legends & legacies
DESCRIPTION:Cheers to Legends & Legacies\nNov 10-12 \nFri. 1 pm-9 pm\nSat 11 am-9 pm\nSun 11 am-4 pm
URL:https://steelenjosbone.com/event/cheers-to-legends-legacies/
END:VEVENT
END:VCALENDAR