BEGIN:VCALENDAR
VERSION:2.0
PRODID:-//Steele-N-Jo&#039;s Bone - ECPv6.15.20//NONSGML v1.0//EN
CALSCALE:GREGORIAN
METHOD:PUBLISH
X-WR-CALNAME:Steele-N-Jo&#039;s Bone
X-ORIGINAL-URL:https://steelenjosbone.com
X-WR-CALDESC:Events for Steele-N-Jo&#039;s Bone
REFRESH-INTERVAL;VALUE=DURATION:PT1H
X-Robots-Tag:noindex
X-PUBLISHED-TTL:PT1H
BEGIN:VTIMEZONE
TZID:UTC
BEGIN:STANDARD
TZOFFSETFROM:+0000
TZOFFSETTO:+0000
TZNAME:UTC
DTSTART:20220101T000000
END:STANDARD
END:VTIMEZONE
BEGIN:VEVENT
DTSTART;VALUE=DATE:20231117
DTEND;VALUE=DATE:20231119
DTSTAMP:20260421T005025
CREATED:20231028T001204Z
LAST-MODIFIED:20231028T001253Z
UID:1556-1700179200-1700351999@steelenjosbone.com
SUMMARY:Gratitude is the Attitude
DESCRIPTION:Gratitude is the Attitude\nNov 17-18\nFri. 1 pm-9 pm\nsat 11 am-9 pm
URL:https://steelenjosbone.com/event/gratitude-is-the-attitude/
END:VEVENT
END:VCALENDAR